Workbook
Name Si: '1-Scheda individuale'!$J$47

Sheet 1-Scheda individuale
A2: FEDERAZIONE ITALIANA SPORT EQUESTRI
B4: COLLABORAZIONE SPORTIVA DILETTANTISTICA - riforma D.lgs. 36/2021
B6: Cognome Nome: | C6: Marco Rossi
B8: Luogo di nascita: | C8: Roma
B10: Data di nascita (dd/mm/aaaa) | C10: dd/mm/aaaa
B12: Codice Fiscale | C12: XXXYYYNNZNNH501T
B14: IBAN | C14: IT…..................
B16: Titolare c/c | C16: Marco Rossi
B18: Email | C18: …...................@gmail .com
B20: Cellulare | C20: 366/…...............
B22: Numero tessera FISE | C22: …...................
B24: Incarico: | C24: Istruttore/atleta/direttore tecnico
B26: Anno: | D26: 2024
B28: Periodo: | D28: Trimestrale
B30: Durata contratto | C30: dal | D30: 45292 | E30: al | F30: 45657
B32: Calcolo detrazioni per lavoro dipendente: | D32: Si
B34: Dipendente pubblico | D34: No | E34: Autorizzazione | F34: No
B36: Altra previdenza obbligatoria/titolare di pensione diretta: | D36: No
B39: Indirizzo di residenza | C39: Via/Piazza …............ N. xxxxx
B41: Comune Residenza : | C41: ROMA | F41: =+IF(C41<>"",INDEX('4-Add.Comunali'!A:A,MATCH(C41,'4-Add.Comunali'!B:B,0),0),"") -> H501
B43: Regione Residenza : | C43: REGIONE LAZIO
B45: Regione lavoro : | C45: REGIONE LAZIO
B48: Compenso sportivo lordo per il periodo ex D.Lgs. n. 26/2021 (A): | F48: 1000
B50: Altri redditi (B):
B52: Compenso IRPEF esente già percepito (*)
B54: Compenso INPS esente già percepito (*)
B56: Ritenute INPS (C) | F56: =IF(F48<>"0",PRODUCT(('2-Prospetto'!G6+'2-Prospetto'!G12),-1),"") -> 0
B58: Ritenute IRPEF+Add.li (D) | F58: =IF(F48<>"0",PRODUCT('2-Prospetto'!G57,-1),"") -> 0
B60: Compenso sportivo netto per il periodo: | F60: =IF(F50<>0,0,'2-Prospetto'!G59) -> 1000
B63: Costo azienda per il periodo per Compenso sportivo: | F63: =IF(C41<>"",SUM('2-Prospetto'!G23),"") -> 1000
B66: Reddito complessivo netto con detrazioni , se presenti, per il periodo: | F66: =+IF(D32="NO",+'2-Prospetto'!G59,'2-Prospetto'!S40) -> 1000
B68: Data | F68: Firma
B69: _______________________ | F69: __________________
B72: * Indicare il compenso esente percepito dal 01 gennaio alla data odierna escluso il compenso oggetto della presente richiesta

Sheet 2-Prospetto
H1: Importi esenti
B2: a) | C2: Compenso Imponibile contributivo | G2: =+'1-Scheda individuale'!$F$48:$F$48 -> 1000 | H2: {=+'1-Scheda individuale'!F52:G52} -> 0 | I2: 0
D3: Riduzione MAX | J3: Altra Previd.Obblig.
D4: 5000 | F4: 1 | G4: =+VLOOKUP('1-Scheda individuale'!D26,'6-VARIABILI'!A:B,2,FALSE) -> 0.5
B5: b) | C5: Imponibile INPS (Max.€.120.607 - 5.000) 50% fino al 31/12/2027 | D5: =IF((D4-H5)<0,0,(D4-H5)) -> 5000 | E5: 120607 | F5: =+IF(G2-D5<0,0,IF(G2-D5>E5,E5-D5,G2-D5)) -> 0 | G5: =+IF(G2-D5<0,0,IF(G2-D5>E5,E5-D5,G2-D5)*VLOOKUP('1-Scheda individuale'!D26,'6-VARIABILI'!A:B,2,FALSE)) -> 0 | H5: {=+'1-Scheda individuale'!F54:F54} -> 0 | J5: No | K5: Si
B6: bI) | C6: INPS c/dipendente 1/3 | E6: =IF('1-Scheda individuale'!$D$36="Si",K6,J6) -> 0.083333333 | F6: =IF('1-Scheda individuale'!$D$36="Si",0,2.03%/3) -> 0.0067666667 | G6: =+$E$6*G5+$F$5*F6 -> 0 | J6: =((25%)/3) -> 0.083333333 | K6: =((24%)/3) -> 0.08
B7: bII) | C7: INPS c/azienda 2/3 | E7: =IF('1-Scheda individuale'!$D$36="Si",K7,J7) -> 0.16666667 | F7: =IF('1-Scheda individuale'!$D$36="Si",0,2.03%*2/3) -> 0.013533333 | G7: =+$E$7*G5+$F$5*F7 -> 0 | J7: =((25%)/3*2) -> 0.16666667 | K7: =((24%)/3*2) -> 0.16
B8: bIII) | C8: Totale INPS (b + c = 3/3) | E8: =SUM(E6:E7) -> 0.25 | F8: =SUM(F6:F7) -> 0.0203 | G8: =+SUM(G6:G7) -> 0 | J8: =SUM(J6:J7) -> 0.25 | K8: =SUM(K6:K7) -> 0.24
D10: Min | E10: Max | F10: Counter
B11: c) | C11: Imponibile INAIL | D11: 17780.7 | E11: 33021.3 | F11: =IF(G2>E11,E11,G2) -> 1000 | G11: =IF(F11<D11,D11,F11) -> 17780.7 | I11: Non gestito
B12: cI) | C12: INAIL c/dipendente 1/3 | E12: =(0.079/3)*0 -> 0 | G12: =+E12*G11 -> 0
B13: cII) | C13: INAIL c/azienda 2/3 | E13: =(0.079/3*2)*0 -> 0 | G13: =+E13*G11 -> 0
B14: cIII) | C14: Totale INAIL (b + c = 3/3) | E14: =SUM(E12:E13) -> 0 | G14: =+G12+G13 -> 0
D15: Riduzione MAX
D16: 15000 | J16: Altri redditi
B17: d) | C17: Imponibile Fiscale (a - bI - cI - 15.000 + Altri redditi) | D17: Esenzione effett. | E17: =+IF((+D16-H17)<0,0,(D16-H17)) -> 15000 | G17: =IF((G2-G6-G12-E17)>0,G2-G6-G12-E17,0)+J17 -> 0 | H17: {=+'1-Scheda individuale'!F52:F52} -> 0 | J17: =+'1-Scheda individuale'!$F$50:$F$50 -> 0
B19: d.1) | C19: Compenso Imponibile IRAP | D19: Esenzione | E19: 85000 | G19: =IF(G2-E19>0,G2-E19,0) -> 0
C21: IRAP | E21: =+VLOOKUP('1-Scheda individuale'!$C$43,'5-IRAP'!$A:$D,4,FALSE) -> 0.0482 | G21: =+E21*G19 -> 0
J22: 2024 | Q22: 365
B23: e) | C23: Totale costo azienda (a + bII + cII) | G23: =SUM(G2,G7,G13,G21) -> 1000 | N23: Detraz | O23: Min Tdet | P23: Min Indet | Q23: Giorni | R23: Detrazione | S23: Molttipilicatore
L24: Detrazioni 2026
C25: Fascia Esenzione | D25: 0 | E25: 15000 | F25: 0.23 | G25: =IF(AND(NOT(ISERROR(J25)),F25>0),PRODUCT(J25,F25),0) -> 0 | J25: =+IF(E25<$G$17,E25-D25,IF($G$17-SUM($J$24:J24)>E25-D25,E25-D25,$G$17-SUM($J$24:J24))) -> 0 | L25: 0 | M25: 15000 | N25: 1955 | O25: 1380 | P25: 690 | Q25: =+IF('1-Scheda individuale'!$D$28="AnnualE",365,IF('1-Scheda individuale'!$D$28="Semestrale",180,IF('1-Scheda individuale'!$D$28="Trimestrale",90,30))) -> 90 | R25: =+IF(N25*Q25/Q22<O25,O25,N25*Q25/Q22)*S25 -> 1380 | S25: =+IF(G26<>0,0,1) -> 1
C26: Fascia 1 | D26: 15000.01 | E26: 28000 | F26: 0.23 | G26: =IF(AND(NOT(ISERROR(J26)),F26>0),PRODUCT(J26,F26),0) -> 0 | J26: =+IF(E26<$G$17,E26-D26,IF($G$17-SUM($J$24:J25)>E26-D26,E26-D26,$G$17-SUM($J$24:J25))) -> 0 | L26: 15000.01 | M26: 28000 | N26: 1910 | O26: 0 | P26: 0 | R26: =+((1910+(1190*((28000-G17)/13000)))*S26)*Q25/Q22 -> 0 | S26: =+IF(G27<>0,0,1)*T26 -> 0 | T26: =+IF(G26=0,0,1) -> 0
C27: Fascia 2 | D27: 28000.01 | E27: 50000 | F27: 0.33 | G27: =IF(AND(NOT(ISERROR(J27)),F27>0),PRODUCT(J27,F27),0) -> 0 | J27: =+IF(E27<$G$17,E27-D27,IF($G$17-SUM($J$24:J26)>E27-D27,E27-D27,$G$17-SUM($J$24:J26))) -> 0 | L27: 28000.01 | M27: 50000 | N27: 1910 | O27: 0 | P27: 0 | R27: =+((1910*(((50000-G17)/22000)*S27))*Q25/Q22) -> 0 | S27: =+IF(G28<>0,0,1)*T27 -> 0 | T27: =+IF(G27=0,0,1) -> 0
C28: Fascia 3 | D28: 50000.01 | E28: 999999 | F28: 0.43 | G28: =IF(AND(NOT(ISERROR(J28)),F28>0),PRODUCT(J28,F28),0) -> 0 | J28: =+IF(E28<$G$17,E28-D28,IF($G$17-SUM($J$24:J27)>E28-D28,E28-D28,$G$17-SUM($J$24:J27))) -> 0 | L28: 50000.01 | M28: 999999 | N28: 0 | O28: 0 | P28: 0 | R28: 0 | S28: =+IF(G29<>0,0,1)*T28 -> 0 | T28: =+IF(G28=0,0,1) -> 0
C29: Ritenuta Nazionale | G29: =+SUM(G25:G28) -> 0 | J29: =SUM(J25:J28) -> 0 | Q29: Tot Detraz | R29: =SUM(R25:R28) -> 1380
J30: =+J29-G17 -> 0 | K30: Check | N30: Ulteriore detraz. | R30: =+IF(AND(G17<=35000,G17>=25000),65,0) -> 0
C31: Comune | D31: =+'1-Scheda individuale'!C41 -> ROMA
C32: Codice catastale | D32: =+INDEX('4-Add.Comunali'!A:A,MATCH(D31,'4-Add.Comunali'!B:B,0),0) -> H501 | N32: Totale detrazione | R32: =SUM(R29:R30) -> 1380
C33: Tipologia | D33: =+VLOOKUP(D32,'4-Add.Comunali'!A:AH,8) -> SI
K34: Limite Max
B35: 10 | C35: Fascia 1 | E35: {=IF(D33="SI",IFERROR(LOOKUP(1E+100,--MID(L35,SMALL(FIND({0,1,2,3,4,5,6,7,8,9},L35&"0123456789"),1),ROW(INDIRECT("1:"&LEN(L35))))),""),999999)} -> 14000 | F35: =+VLOOKUP($D$32,'4-Add.Comunali'!A:AH,(B35-1))/100 -> 0 | G35: =IF($D$33<>"0*",IF(AND(NOT(ISERROR(J35)),F35>0),PRODUCT(J35,F35),0),0) -> 0 | J35: =+IF(E35<G17,E35,G17) -> 0 | K35: {=IFERROR(LOOKUP(1E+100,--MID(L35,SMALL(FIND({0,1,2,3,4,5,6,7,8,9},L35&"0123456789"),1),ROW(INDIRECT("1:"&LEN(L35))))),"")} -> 14000 | L35: =IFERROR(VLOOKUP($D$32,'4-Add.Comunali'!A:V,B35,1),0) -> Esenzione per redditi imponibili fino a euro 14.000,00 | N35: Detrazioni | S35: =+IF('1-Scheda individuale'!D32="Si",+'2-Prospetto'!R32,0) -> 1380
B36: =+B35+2 -> 12 | C36: Fascia 2 | D36: =+E35 -> 14000 | E36: =IF(K37=0,999999,K37) -> 999999 | F36: =+VLOOKUP($D$32,'4-Add.Comunali'!A:AH,(B36-1))/100 -> 0.009 | G36: =IF($D$33<>"0*",IF(AND(NOT(ISERROR(J36)),F36>0),PRODUCT(J36,F36),0),0) -> 0 | J36: =+IF(IF(SUM($E$35:E36)<$G$17,E36,$G$17-SUM($E$35:E35))<0,0,IF(SUM($E$35:E36)<$G$17,E36,$G$17-SUM($E$35:E35))) -> 0 | K36: {=IFERROR(LOOKUP(1E+100,--MID(L36,SMALL(FIND({0,1,2,3,4,5,6,7,8,9},L36&"0123456789"),1),ROW(INDIRECT("1:"&LEN(L36))))),"")} | L36: =IFERROR(VLOOKUP($D$32,'4-Add.Comunali'!A:V,B36,1),0) -> Aliquota unica | N36: Detrazioni Cuneo 2026 | S36: =+Q72 -> 0
B37: =+B36+2 -> 14 | C37: Fascia 3 | D37: =+E36 -> 999999 | E37: =IF(K38=0,999999,K38) -> 999999 | F37: =+VLOOKUP($D$32,'4-Add.Comunali'!A:AH,(B37-1))/100 -> 0 | G37: =IF($D$33<>"0*",IF(AND(NOT(ISERROR(J37)),F37>0),PRODUCT(J37,F37),0),0) -> 0 | J37: =+IF(IF(SUM($E$35:E37)<$G$17,E37,$G$17-SUM($E$35:E36))<0,0,IF(SUM($E$35:E37)<$G$17,E37,$G$17-SUM($E$35:E36))) -> 0 | K37: {=IFERROR(LOOKUP(1E+100,--MID(L37,SMALL(FIND({0,1,2,3,4,5,6,7,8,9},L37&"0123456789"),1),ROW(INDIRECT("1:"&LEN(L37))))),"")} -> 0 | L37: =IFERROR(VLOOKUP($D$32,'4-Add.Comunali'!A:V,B37,1),0) -> 0 | N37: Ritenuta irpef periodo netto detrazioni | S37: =+'1-Scheda individuale'!F58+S35+S36 -> 1380
B38: =+B37+2 -> 16 | C38: Fascia 4 | D38: =+E37 -> 999999 | E38: =IF(K39=0,999999,K39) -> 999999 | F38: =+VLOOKUP($D$32,'4-Add.Comunali'!A:AH,(B38-1))/100 -> 0 | G38: =IF($D$33<>"0*",IF(AND(NOT(ISERROR(J38)),F38>0),PRODUCT(J38,F38),0),0) -> 0 | J38: =+IF(IF(SUM($E$35:E38)<$G$17,E38,$G$17-SUM($E$35:E37))<0,0,IF(SUM($E$35:E38)<$G$17,E38,$G$17-SUM($E$35:E37))) -> 0 | K38: {=IFERROR(LOOKUP(1E+100,--MID(L38,SMALL(FIND({0,1,2,3,4,5,6,7,8,9},L38&"0123456789"),1),ROW(INDIRECT("1:"&LEN(L38))))),"")} -> 0 | L38: =IFERROR(VLOOKUP($D$32,'4-Add.Comunali'!A:V,B38,1),0) -> 0 | N38: Detrazione periodo considerata | S38: =+IF(S37<0,S35+S36,0) -> 0
B39: =+B38+2 -> 18 | C39: Fascia 5 | D39: =+E38 -> 999999 | E39: =IF(K40=0,999999,K40) -> 999999 | F39: =+VLOOKUP($D$32,'4-Add.Comunali'!A:AH,(B39-1))/100 -> 0 | G39: =IF($D$33<>"0*",IF(AND(NOT(ISERROR(J39)),F39>0),PRODUCT(J39,F39),0),0) -> 0 | J39: =+IF(IF(SUM($E$35:E39)<$G$17,E39,$G$17-SUM($E$35:E38))<0,0,IF(SUM($E$35:E39)<$G$17,E39,$G$17-SUM($E$35:E38))) -> 0 | K39: {=IFERROR(LOOKUP(1E+100,--MID(L39,SMALL(FIND({0,1,2,3,4,5,6,7,8,9},L39&"0123456789"),1),ROW(INDIRECT("1:"&LEN(L39))))),"")} -> 0 | L39: =IFERROR(VLOOKUP($D$32,'4-Add.Comunali'!A:V,B39,1),0) -> 0 | N39: Compenso netto per il periodo: | R39: =IF('1-Scheda individuale'!C41<>"",SUM('2-Prospetto'!G59),"") -> 1000
B40: =+B39+2 -> 20 | C40: Fascia 6 | D40: =+E39 -> 999999 | E40: =IF(K41=0,999999,K41) -> 999999 | F40: =+VLOOKUP($D$32,'4-Add.Comunali'!A:AH,(B40-1))/100 -> 0 | G40: =IF($D$33<>"0*",IF(AND(NOT(ISERROR(J40)),F40>0),PRODUCT(J40,F40),0),0) -> 0 | J40: =+IF(IF(SUM($E$35:E40)<$G$17,E40,$G$17-SUM($E$35:E39))<0,0,IF(SUM($E$35:E40)<$G$17,E40,$G$17-SUM($E$35:E39))) -> 0 | K40: {=IFERROR(LOOKUP(1E+100,--MID(L40,SMALL(FIND({0,1,2,3,4,5,6,7,8,9},L40&"0123456789"),1),ROW(INDIRECT("1:"&LEN(L40))))),"")} -> 0 | L40: =IFERROR(VLOOKUP($D$32,'4-Add.Comunali'!A:V,B40,1),0) -> 0 | N40: Compenso netto detrazioni per il periodo: | S40: =+'2-Prospetto'!R39+'2-Prospetto'!S38 -> 1000
B41: =+B40+2 -> 22 | C41: Fascia 7 | D41: =+E40 -> 999999 | E41: =IF(K42=0,999999,K42) -> 999999 | F41: =+VLOOKUP($D$32,'4-Add.Comunali'!A:AH,(B41-1))/100 -> 0 | G41: =IF($D$33<>"0*",IF(AND(NOT(ISERROR(J41)),F41>0),PRODUCT(J41,F41),0),0) -> 0 | J41: =+IF(IF(SUM($E$35:E41)<$G$17,E41,$G$17-SUM($E$35:E40))<0,0,IF(SUM($E$35:E41)<$G$17,E41,$G$17-SUM($E$35:E40))) -> 0 | K41: {=IFERROR(LOOKUP(1E+100,--MID(L41,SMALL(FIND({0,1,2,3,4,5,6,7,8,9},L41&"0123456789"),1),ROW(INDIRECT("1:"&LEN(L41))))),"")} -> 0 | L41: =IFERROR(VLOOKUP($D$32,'4-Add.Comunali'!A:V,B41,1),0) -> 0
C42: Ritenuta Comunale | G42: =+SUM(G35:G41) -> 0 | J42: =SUM(J35:J41) -> 0
J43: =+J42-G17 -> 0 | K43: Check
...

Sheet 3-Add.Regionali
A1: ANNO | B1: REGIONE | C1: NUMERO | D1: DATA PUBBLICAZIONE | E1: DISPOSIZIONE | F1: NORME | G1: NOTE | H1: ALIQUOTA | I1: FASCIA | J1: Concatena
A2: 2025 | B2: REGIONE LAZIO | C2: 1887 | D2: 45723 | E2: Disapplicazione della maggiorazione di cui all' articolo 2, comma 1, l.r. 1/2023, pari all' 1,60%, per i soggetti con un reddito imponibile ai fini dell'addizionale regionale all' IRPEF fino a 28.000,00 euro (art. 2, co. 2, L.R. 22/2024) Detrazione pari a 60,00 euro per i soggetti con un reddito imponibile ai fini dell'addizionale regionale all' IRPEF compreso tra 28.001 e 35.000,00 euro (art. 2, co. 3, L.R. 22/2024). | F2: legge regionale n. 22 del 30 dicembre 2024 | H2: 1.73 | I2: fino a 15000.00 euro | J2: =+CONCATENATE(B2,"-",I2) -> REGIONE LAZIO-fino a 15000.00 euro
A3: 2025 | B3: REGIONE LAZIO | C3: 1887 | D3: 45723 | E3: Disapplicazione della maggiorazione di cui all' articolo 2, comma 1, l.r. 1/2023, pari all' 1,60%, per i soggetti con un reddito imponibile ai fini dell'addizionale regionale all' IRPEF fino a 28.000,00 euro (art. 2, co. 2, L.R. 22/2024) Detrazione pari a 60,00 euro per i soggetti con un reddito imponibile ai fini dell'addizionale regionale all' IRPEF compreso tra 28.001 e 35.000,00 euro (art. 2, co. 3, L.R. 22/2024). | F3: legge regionale n. 22 del 30 dicembre 2024 | H3: 3.33 | I3: oltre 15000.00 e fino a 28000.00 euro | J3: =+CONCATENATE(B3,"-",I3) -> REGIONE LAZIO-oltre 15000.00 e fino a 28000.00 euro
A4: 2025 | B4: REGIONE LAZIO | C4: 1887 | D4: 45723 | E4: Disapplicazione della maggiorazione di cui all' articolo 2, comma 1, l.r. 1/2023, pari all' 1,60%, per i soggetti con un reddito imponibile ai fini dell'addizionale regionale all' IRPEF fino a 28.000,00 euro (art. 2, co. 2, L.R. 22/2024) Detrazione pari a 60,00 euro per i soggetti con un reddito imponibile ai fini dell'addizionale regionale all' IRPEF compreso tra 28.001 e 35.000,00 euro (art. 2, co. 3, L.R. 22/2024). | F4: legge regionale n. 22 del 30 dicembre 2024 | H4: 3.33 | I4: oltre 28000.00 e fino a 50000.00 euro | J4: =+CONCATENATE(B4,"-",I4) -> REGIONE LAZIO-oltre 28000.00 e fino a 50000.00 euro
A5: 2025 | B5: REGIONE LAZIO | C5: 1887 | D5: 45723 | E5: Disapplicazione della maggiorazione di cui all' articolo 2, comma 1, l.r. 1/2023, pari all' 1,60%, per i soggetti con un reddito imponibile ai fini dell'addizionale regionale all' IRPEF fino a 28.000,00 euro (art. 2, co. 2, L.R. 22/2024) Detrazione pari a 60,00 euro per i soggetti con un reddito imponibile ai fini dell'addizionale regionale all' IRPEF compreso tra 28.001 e 35.000,00 euro (art. 2, co. 3, L.R. 22/2024). | F5: legge regionale n. 22 del 30 dicembre 2024 | H5: 3.33 | I5: oltre 50000.00 euro | J5: =+CONCATENATE(B5,"-",I5) -> REGIONE LAZIO-oltre 50000.00 euro
A6: 2025 | B6: PROVINCIA AUTONOMA DI BOLZANO | C6: 1907 | D6: 45736 | E6: a) Ai contribuenti aventi un reddito imponibile ai fini dell'addizionale regionale IRPEF non superiore a 90.000,00 euro spetta una detrazione d'imposta di 430,50 euro. b) Per i redditi imponibili di importo superiore a 50.000,00 euro spetta un'ulteriore detrazione determinata dall'importo di 125,00 euro moltiplicato per il rapporto tra il reddito imponibile diminuito di 50.000,00 euro e l'importo di 25.000,00 euro. L'importo massimo detraibile ammonta a 125,00 euro. c) Ai contribuenti con un reddito imponibile ai fini dell'addizionale regionale Irpef non superiore a 90.000 euro e con figli a carico, spetta una detrazione d'imposta di 340,00 euro per ogni figlio in proporzione alla percentuale e ai mesi di carico. | F6: Art. 21/sexiesdecies, legge provinciale 11 agosto 1998, n. 9 | G6: Le detrazioni sono cumulabili ma non generano credito d'imposta. Nella verifica della soglia di 90.000 euro va tenuto conto dei redditi di fabbricati assoggettati alla cedolare secca, dei redditi assoggettati ad imposta sostitutiva sulle mance e dei redditi forfettari degli esercenti impresa, arti o professioni. La detrazione per carichi di famiglia si applica nei limiti reddituali stabiliti dall'art. 12 del DPR 917/1986 anche a figli a carico di eta' inferiore ai 21 e superiore a 30 anni. | H6: 1.23 | I6: fino a 28000.00 euro | J6: =+CONCATENATE(B6,"-",I6) -> PROVINCIA AUTONOMA DI BOLZANO-fino a 28000.00 euro
A7: 2025 | B7: PROVINCIA AUTONOMA DI BOLZANO | C7: 1907 | D7: 45736 | E7: a) Ai contribuenti aventi un reddito imponibile ai fini dell'addizionale regionale IRPEF non superiore a 90.000,00 euro spetta una detrazione d'imposta di 430,50 euro. b) Per i redditi imponibili di importo superiore a 50.000,00 euro spetta un'ulteriore detrazione determinata dall'importo di 125,00 euro moltiplicato per il rapporto tra il reddito imponibile diminuito di 50.000,00 euro e l'importo di 25.000,00 euro. L'importo massimo detraibile ammonta a 125,00 euro. c) Ai contribuenti con un reddito imponibile ai fini dell'addizionale regionale Irpef non superiore a 90.000 euro e con figli a carico, spetta una detrazione d'imposta di 340,00 euro per ogni figlio in proporzione alla percentuale e ai mesi di carico. | F7: Art. 21/sexiesdecies, legge provinciale 11 agosto 1998, n. 9 | G7: Le detrazioni sono cumulabili ma non generano credito d'imposta. Nella verifica della soglia di 90.000 euro va tenuto conto dei redditi di fabbricati assoggettati alla cedolare secca, dei redditi assoggettati ad imposta sostitutiva sulle mance e dei redditi forfettari degli esercenti impresa, arti o professioni. La detrazione per carichi di famiglia si applica nei limiti reddituali stabiliti dall'art. 12 del DPR 917/1986 anche a figli a carico di eta' inferiore ai 21 e superiore a 30 anni. | H7: 1.23 | I7: oltre 28000.00 e fino a 50000.00 euro | J7: =+CONCATENATE(B7,"-",I7) -> PROVINCIA AUTONOMA DI BOLZANO-oltre 28000.00 e fino a 50000.00 euro
A8: 2025 | B8: PROVINCIA AUTONOMA DI BOLZANO | C8: 1907 | D8: 45736 | E8: a) Ai contribuenti aventi un reddito imponibile ai fini dell'addizionale regionale IRPEF non superiore a 90.000,00 euro spetta una detrazione d'imposta di 430,50 euro. b) Per i redditi imponibili di importo superiore a 50.000,00 euro spetta un'ulteriore detrazione determinata dall'importo di 125,00 euro moltiplicato per il rapporto tra il reddito imponibile diminuito di 50.000,00 euro e l'importo di 25.000,00 euro. L'importo massimo detraibile ammonta a 125,00 euro. c) Ai contribuenti con un reddito imponibile ai fini dell'addizionale regionale Irpef non superiore a 90.000 euro e con figli a carico, spetta una detrazione d'imposta di 340,00 euro per ogni figlio in proporzione alla percentuale e ai mesi di carico. | F8: Art. 21/sexiesdecies, legge provinciale 11 agosto 1998, n. 9 | G8: Le detrazioni sono cumulabili ma non generano credito d'imposta. Nella verifica della soglia di 90.000 euro va tenuto conto dei redditi di fabbricati assoggettati alla cedolare secca, dei redditi assoggettati ad imposta sostitutiva sulle mance e dei redditi forfettari degli esercenti impresa, arti o professioni. La detrazione per carichi di famiglia si applica nei limiti reddituali stabiliti dall'art. 12 del DPR 917/1986 anche a figli a carico di eta' inferiore ai 21 e superiore a 30 anni. | H8: 1.73 | I8: oltre 50000.00 euro | J8: =+CONCATENATE(B8,"-",I8) -> PROVINCIA AUTONOMA DI BOLZANO-oltre 50000.00 euro
A9: 2025 | B9: PROVINCIA AUTONOMA DI TRENTO | C9: 1908 | D9: 45736 | E9: Ai contribuenti senza figli a carico aventi un reddito imponibile non superiore a euro 27.000,00 spetta una deduzione di euro 27.000,00. Tale deduzione non spetta ai contribuenti senza figli a carico aventi un reddito imponibile superiore a euro 27.000,00. Ai contribuenti con figli a carico aventi un reddito imponibile non superiore a euro 30.000,00 spetta una deduzione di euro 30.000,00. Tale deduzione non spetta ai contribuenti con figli a carico aventi un reddito imponibile superiore a euro 30.000,00. Ai contribuenti aventi un reddito imponibile non superiore a 50.000 euro spetta una detrazione dall'importo dovuto a titolo di addizionale regionale all'IRPEF di 246 euro, in proporzione alla percentuale e ai mesi di carico, per ogni figlio che si trova nelle condizioni previste dall'articolo 12, comma 2, del D.P.R. n. 917/86. Se l'imposta dovuta risulta minore della detrazione non sorge alcun credito d'imposta. | F9: Articolo 1, commi 2 quinquies, 2 sexies e 3 bis, della legge provinciale 23 dicembre 2019, n. 13, come modificato dall'articolo 2 della legge provinciale 30 dicembre 2024, n. 13. | H9: 1.23 | I9: fino a 15000.00 euro | J9: =+CONCATENATE(B9,"-",I9) -> PROVINCIA AUTONOMA DI TRENTO-fino a 15000.00 euro
A10: 2025 | B10: PROVINCIA AUTONOMA DI TRENTO | C10: 1908 | D10: 45736 | E10: Ai contribuenti senza figli a carico aventi un reddito imponibile non superiore a euro 27.000,00 spetta una deduzione di euro 27.000,00. Tale deduzione non spetta ai contribuenti senza figli a carico aventi un reddito imponibile superiore a euro 27.000,00. Ai contribuenti con figli a carico aventi un reddito imponibile non superiore a euro 30.000,00 spetta una deduzione di euro 30.000,00. Tale deduzione non spetta ai contribuenti con figli a carico aventi un reddito imponibile superiore a euro 30.000,00. Ai contribuenti aventi un reddito imponibile non superiore a 50.000 euro spetta una detrazione dall'importo dovuto a titolo di addizionale regionale all'IRPEF di 246 euro, in proporzione alla percentuale e ai mesi di carico, per ogni figlio che si trova nelle condizioni previste dall'articolo 12, comma 2, del D.P.R. n. 917/86. Se l'imposta dovuta risulta minore della detrazione non sorge alcun credito d'imposta. | F10: Articolo 1, commi 2 quinquies, 2 sexies e 3 bis, della legge provinciale 23 dicembre 2019, n. 13, come modificato dall'articolo 2 della legge provinciale 30 dicembre 2024, n. 13. | H10: 1.23 | I10: oltre 15000.00 e fino a 28000.00 euro | J10: =+CONCATENATE(B10,"-",I10) -> PROVINCIA AUTONOMA DI TRENTO-oltre 15000.00 e fino a 28000.00 euro
A11: 2025 | B11: PROVINCIA AUTONOMA DI TRENTO | C11: 1908 | D11: 45736 | E11: Ai contribuenti senza figli a carico aventi un reddito imponibile non superiore a euro 27.000,00 spetta una deduzione di euro 27.000,00. Tale deduzione non spetta ai contribuenti senza figli a carico aventi un reddito imponibile superiore a euro 27.000,00. Ai contribuenti con figli a carico aventi un reddito imponibile non superiore a euro 30.000,00 spetta una deduzione di euro 30.000,00. Tale deduzione non spetta ai contribuenti con figli a carico aventi un reddito imponibile superiore a euro 30.000,00. Ai contribuenti aventi un reddito imponibile non superiore a 50.000 euro spetta una detrazione dall'importo dovuto a titolo di addizionale regionale all'IRPEF di 246 euro, in proporzione alla percentuale e ai mesi di carico, per ogni figlio che si trova nelle condizioni previste dall'articolo 12, comma 2, del D.P.R. n. 917/86. Se l'imposta dovuta risulta minore della detrazione non sorge alcun credito d'imposta. | F11: Articolo 1, commi 2 quinquies, 2 sexies e 3 bis, della legge provinciale 23 dicembre 2019, n. 13, come modificato dall'articolo 2 della legge provinciale 30 dicembre 2024, n. 13. | H11: 1.23 | I11: oltre 28000.00 e fino a 50000.00 euro | J11: =+CONCATENATE(B11,"-",I11) -> PROVINCIA AUTONOMA DI TRENTO-oltre 28000.00 e fino a 50000.00 euro
A12: 2025 | B12: PROVINCIA AUTONOMA DI TRENTO | C12: 1908 | D12: 45736 | E12: Ai contribuenti senza figli a carico aventi un reddito imponibile non superiore a euro 27.000,00 spetta una deduzione di euro 27.000,00. Tale deduzione non spetta ai contribuenti senza figli a carico aventi un reddito imponibile superiore a euro 27.000,00. Ai contribuenti con figli a carico aventi un reddito imponibile non superiore a euro 30.000,00 spetta una deduzione di euro 30.000,00. Tale deduzione non spetta ai contribuenti con figli a carico aventi un reddito imponibile superiore a euro 30.000,00. Ai contribuenti aventi un reddito imponibile non superiore a 50.000 euro spetta una detrazione dall'importo dovuto a titolo di addizionale regionale all'IRPEF di 246 euro, in proporzione alla percentuale e ai mesi di carico, per ogni figlio che si trova nelle condizioni previste dall'articolo 12, comma 2, del D.P.R. n. 917/86. Se l'imposta dovuta risulta minore della detrazione non sorge alcun credito d'imposta. | F12: Articolo 1, commi 2 quinquies, 2 sexies e 3 bis, della legge provinciale 23 dicembre 2019, n. 13, come modificato dall'articolo 2 della legge provinciale 30 dicembre 2024, n. 13. | H12: 1.73 | I12: oltre 50000.00 euro | J12: =+CONCATENATE(B12,"-",I12) -> PROVINCIA AUTONOMA DI TRENTO-oltre 50000.00 euro
A13: 2025 | B13: REGIONE SICILIA | C13: 1927 | D13: 45736 | F13: D.lgs 15/12/1997 n. 446 art.50, L.R. 2 maggio 2007 n. 12 art. 1, D.L.6/12/2011 n. 201 art.28, L.R. 09-02-2015, n. 4 art.1 c.10-quater, L.R. 11/8/2017 n. 15 art. 8 | H13: 1.23 | I13: Aliquota Unica | J13: =+CONCATENATE(B13,"-",I13) -> REGIONE SICILIA-Aliquota Unica
A14: 2025 | B14: REGIONE PUGLIA | C14: 1947 | D14: 45755 | E14: Detrazioni all'addizionale regionale all'IRPEF per carichi di famiglia. Ai sensi dell'art. 3 della L.R. n. 40 del 29 dicembre 2015, a decorrere dal periodo d'imposta 2016, ai contribuenti con piu' di tre figli a carico spetta una detrazione sull'addizionale regionale all'IRPEF di 20 euro per ciascun figlio, in proporzione alla percentuale e ai mesi di carico, a partire dal primo compresi i figli naturali riconosciuti, adottivi o affidati. La detrazione sopra descritta e' aumentata di 375 euro per ogni figlio con diversa abilita' ai sensi dell'art. 3 della legge 104/1992. Ai fini della spettanza e della ripartizione delle detrazioni si applicano le disposizioni previste dall'art. 12, comma 1, lettera c) e comma 2 del d.p.r. 917/1986. Qualora il livello di reddito e la relativa imposta, calcolata su base familiare, non consente la fruizione delle detrazioni, il soggetto IRPEF usufruisce di misure di sostegno economico diretto equivalenti alle detrazioni spettanti come disciplinate da apposito provvedimento della Giunta regionale. | F14: Normativa Regione Puglia: legge regionale 28 marzo 2022, n.8. art. 3 della legge regionale 29 dicembre 2015, n.40. | H14: 1.33 | I14: fino a 15000.00 euro | J14: =+CONCATENATE(B14,"-",I14) -> REGIONE PUGLIA-fino a 15000.00 euro
A15: 2025 | B15: REGIONE PUGLIA | C15: 1947 | D15: 45755 | E15: Detrazioni all'addizionale regionale all'IRPEF per carichi di famiglia. Ai sensi dell'art. 3 della L.R. n. 40 del 29 dicembre 2015, a decorrere dal periodo d'imposta 2016, ai contribuenti con piu' di tre figli a carico spetta una detrazione sull'addizionale regionale all'IRPEF di 20 euro per ciascun figlio, in proporzione alla percentuale e ai mesi di carico, a partire dal primo compresi i figli naturali riconosciuti, adottivi o affidati. La detrazione sopra descritta e' aumentata di 375 euro per ogni figlio con diversa abilita' ai sensi dell'art. 3 della legge 104/1992. Ai fini della spettanza e della ripartizione delle detrazioni si applicano le disposizioni previste dall'art. 12, comma 1, lettera c) e comma 2 del d.p.r. 917/1986. Qualora il livello di reddito e la relativa imposta, calcolata su base familiare, non consente la fruizione delle detrazioni, il soggetto IRPEF usufruisce di misure di sostegno economico diretto equivalenti alle detrazioni spettanti come disciplinate da apposito provvedimento della Giunta regionale. | F15: Normativa Regione Puglia: legge regionale 28 marzo 2022, n.8. art. 3 della legge regionale 29 dicembre 2015, n.40. | H15: 1.43 | I15: oltre 15000.00 e fino a 28000.00 euro | J15: =+CONCATENATE(B15,"-",I15) -> REGIONE PUGLIA-oltre 15000.00 e fino a 28000.00 euro
A16: 2025 | B16: REGIONE PUGLIA | C16: 1947 | D16: 45755 | E16: Detrazioni all'addizionale regionale all'IRPEF per carichi di famiglia. Ai sensi dell'art. 3 della L.R. n. 40 del 29 dicembre 2015, a decorrere dal periodo d'imposta 2016, ai contribuenti con piu' di tre figli a carico spetta una detrazione sull'addizionale regionale all'IRPEF di 20 euro per ciascun figlio, in proporzione alla percentuale e ai mesi di carico, a partire dal primo compresi i figli naturali riconosciuti, adottivi o affidati. La detrazione sopra descritta e' aumentata di 375 euro per ogni figlio con diversa abilita' ai sensi dell'art. 3 della legge 104/1992. Ai fini della spettanza e della ripartizione delle detrazioni si applicano le disposizioni previste dall'art. 12, comma 1, lettera c) e comma 2 del d.p.r. 917/1986. Qualora il livello di reddito e la relativa imposta, calcolata su base familiare, non consente la fruizione delle detrazioni, il soggetto IRPEF usufruisce di misure di sostegno economico diretto equivalenti alle detrazioni spettanti come disciplinate da apposito provvedimento della Giunta regionale. | F16: Normativa Regione Puglia: legge regionale 28 marzo 2022, n.8. art. 3 della legge regionale 29 dicembre 2015, n.40. | H16: 1.63 | I16: oltre 28000.00 e fino a 50000.00 euro | J16: =+CONCATENATE(B16,"-",I16) -> REGIONE PUGLIA-oltre 28000.00 e fino a 50000.00 euro
A17: 2025 | B17: REGIONE PUGLIA | C17: 1947 | D17: 45755 | E17: Detrazioni all'addizionale regionale all'IRPEF per carichi di famiglia. Ai sensi dell'art. 3 della L.R. n. 40 del 29 dicembre 2015, a decorrere dal periodo d'imposta 2016, ai contribuenti con piu' di tre figli a carico spetta una detrazione sull'addizionale regionale all'IRPEF di 20 euro per ciascun figlio, in proporzione alla percentuale e ai mesi di carico, a partire dal primo compresi i figli naturali riconosciuti, adottivi o affidati. La detrazione sopra descritta e' aumentata di 375 euro per ogni figlio con diversa abilita' ai sensi dell'art. 3 della legge 104/1992. Ai fini della spettanza e della ripartizione delle detrazioni si applicano le disposizioni previste dall'art. 12, comma 1, lettera c) e comma 2 del d.p.r. 917/1986. Qualora il livello di reddito e la relativa imposta, calcolata su base familiare, non consente la fruizione delle detrazioni, il soggetto IRPEF usufruisce di misure di sostegno economico diretto equivalenti alle detrazioni spettanti come disciplinate da apposito provvedimento della Giunta regionale. | F17: Normativa Regione Puglia: legge regionale 28 marzo 2022, n.8. art. 3 della legge regionale 29 dicembre 2015, n.40. | H17: 1.85 | I17: oltre 50000.00 euro | J17: =+CONCATENATE(B17,"-",I17) -> REGIONE PUGLIA-oltre 50000.00 euro
A18: 2025 | B18: REGIONE SARDEGNA | C18: 1948 | D18: 45755 | E18: Anche per l'anno d'imposta 2025 ai soggetti aventi un reddito imponibile ai fini dell'addizionale regionale all'IRPEF non superiore a euro 50.000 e con figli minorenni fiscalmente a carico con un reddito complessivo uguale o inferiore a 4.000 euro, al lordo degli oneri deducibili, spetta una detrazione di euro 200 per ogni figlio minorenne, in proporzione alla percentuale e ai mesi a carico. Se l'imposta dovuta e' minore della detrazione non sorge alcun credito d'imposta. La detrazione e' aumentata di euro 100 per ogni figlio con diversa abilita' ai sensi della legge n. 104 del 1992. | F18: D.L. 201/2011, art. 28. L.R.48/2018, art.2, comma 1 e comma 1 bis. L. 234/2021, art. 1, comma 2, lett. a). L.R. 11 luglio 2022, n. 13, art. 1. | G18: Ai fini delle agevolazioni previste dalla L.R. 48/2018, art. 2, per 'minorenni fiscalmente a carico' si intendono i soggetti minori di anni 18 con un reddito complessivo uguale o inferiore a 4.000 euro, al lordo degli oneri deducibili. | H18: 1.23 | I18: Aliquota Unica | J18: =+CONCATENATE(B18,"-",I18) -> REGIONE SARDEGNA-Aliquota Unica
A19: 2025 | B19: REGIONE CALABRIA | C19: 1949 | D19: 45755 | F19: ART.1 L.R. N.30 DEL 07/08/2002 come modificato dalla L.R. N.1 DEL 11/01/2006. ART.29, comma 14, D.L. 29/12/2011 N.216, convertito dalla LEGGE 24/02/2012 N.14. | H19: 1.73 | I19: Aliquota Unica | J19: =+CONCATENATE(B19,"-",I19) -> REGIONE CALABRIA-Aliquota Unica
A20: 2025 | B20: REGIONE MOLISE | C20: 1950 | D20: 45755 | F20: Art. 2 della L.R. n. 9/2013. Art. 1, comma 174, della Legge n. 311/2004. Art. 2, comma 86, della Legge n. 191/2009 - art.1 L.R. 15 dicembre 2023 n. 5 | H20: 1.73 | I20: fino a 15000.00 euro | J20: =+CONCATENATE(B20,"-",I20) -> REGIONE MOLISE-fino a 15000.00 euro
A21: 2025 | B21: REGIONE MOLISE | C21: 1950 | D21: 45755 | F21: Art. 2 della L.R. n. 9/2013. Art. 1, comma 174, della Legge n. 311/2004. Art. 2, comma 86, della Legge n. 191/2009 - art.1 L.R. 15 dicembre 2023 n. 5 | H21: 1.93 | I21: oltre 15000.00 e fino a 28000.00 euro | J21: =+CONCATENATE(B21,"-",I21) -> REGIONE MOLISE-oltre 15000.00 e fino a 28000.00 euro
A22: 2025 | B22: REGIONE MOLISE | C22: 1950 | D22: 45755 | F22: Art. 2 della L.R. n. 9/2013. Art. 1, comma 174, della Legge n. 311/2004. Art. 2, comma 86, della Legge n. 191/2009 - art.1 L.R. 15 dicembre 2023 n. 5 | H22: 3.33 | I22: oltre 28000.00 e fino a 50000.00 euro | J22: =+CONCATENATE(B22,"-",I22) -> REGIONE MOLISE-oltre 28000.00 e fino a 50000.00 euro
A23: 2025 | B23: REGIONE MOLISE | C23: 1950 | D23: 45755 | F23: Art. 2 della L.R. n. 9/2013. Art. 1, comma 174, della Legge n. 311/2004. Art. 2, comma 86, della Legge n. 191/2009 - art.1 L.R. 15 dicembre 2023 n. 5 | H23: 3.33 | I23: oltre 50000.00 euro | J23: =+CONCATENATE(B23,"-",I23) -> REGIONE MOLISE-oltre 50000.00 euro
A24: 2025 | B24: REGIONE FRIULI VENEZIA GIULIA | C24: 1967 | D24: 45755 | E24: Per soggetti aventi un reddito imponibile ai fini dell'addizionale regionale all'IRPEF non superiore a 15.000 euro, l'aliquota e' ridotta dello 0,53 per cento. Pertanto, in ipotesi di reddito imponibile fino a euro 15.000 l'aliquota e' pari a 0,70 per cento. Per reddito imponibile superiore a euro 15.000 l'aliquota e' pari a 1,23 per cento sull'intero importo. | F24: Art. 50 D.Lgs. 446/1997 - Art. 1, comma 5, L.R. 25 luglio 2012, n. 14 - Art. 1, comma 727,Legge 30 dicembre 2024, n. 207 (Bilancio di previsione dello Stato per l'anno finanziario 2025). | H24: 0.70 | I24: fino a 15000.00 euro | J24: =+CONCATENATE(B24,"-",I24) -> REGIONE FRIULI VENEZIA GIULIA-fino a 15000.00 euro
A25: 2025 | B25: REGIONE FRIULI VENEZIA GIULIA | C25: 1967 | D25: 45755 | E25: Per soggetti aventi un reddito imponibile ai fini dell'addizionale regionale all'IRPEF non superiore a 15.000 euro, l'aliquota e' ridotta dello 0,53 per cento. Pertanto, in ipotesi di reddito imponibile fino a euro 15.000 l'aliquota e' pari a 0,70 per cento. Per reddito imponibile superiore a euro 15.000 l'aliquota e' pari a 1,23 per cento sull'intero importo. | F25: Art. 50 D.Lgs. 446/1997 - Art. 1, comma 5, L.R. 25 luglio 2012, n. 14 - Art. 1, comma 727,Legge 30 dicembre 2024, n. 207 (Bilancio di previsione dello Stato per l'anno finanziario 2025). | H25: 1.23 | I25: oltre 15000.00 e fino a 28000.00 euro | J25: =+CONCATENATE(B25,"-",I25) -> REGIONE FRIULI VENEZIA GIULIA-oltre 15000.00 e fino a 28000.00 euro
A26: 2025 | B26: REGIONE FRIULI VENEZIA GIULIA | C26: 1967 | D26: 45755 | E26: Per soggetti aventi un reddito imponibile ai fini dell'addizionale regionale all'IRPEF non superiore a 15.000 euro, l'aliquota e' ridotta dello 0,53 per cento. Pertanto, in ipotesi di reddito imponibile fino a euro 15.000 l'aliquota e' pari a 0,70 per cento. Per reddito imponibile superiore a euro 15.000 l'aliquota e' pari a 1,23 per cento sull'intero importo. | F26: Art. 50 D.Lgs. 446/1997 - Art. 1, comma 5, L.R. 25 luglio 2012, n. 14 - Art. 1, comma 727,Legge 30 dicembre 2024, n. 207 (Bilancio di previsione dello Stato per l'anno finanziario 2025). | H26: 1.23 | I26: oltre 28000.00 e fino a 50000.00 euro | J26: =+CONCATENATE(B26,"-",I26) -> REGIONE FRIULI VENEZIA GIULIA-oltre 28000.00 e fino a 50000.00 euro
A27: 2025 | B27: REGIONE FRIULI VENEZIA GIULIA | C27: 1967 | D27: 45755 | E27: Per soggetti aventi un reddito imponibile ai fini dell'addizionale regionale all'IRPEF non superiore a 15.000 euro, l'aliquota e' ridotta dello 0,53 per cento. Pertanto, in ipotesi di reddito imponibile fino a euro 15.000 l'aliquota e' pari a 0,70 per cento. Per reddito imponibile superiore a euro 15.000 l'aliquota e' pari a 1,23 per cento sull'intero importo. | F27: Art. 50 D.Lgs. 446/1997 - Art. 1, comma 5, L.R. 25 luglio 2012, n. 14 - Art. 1, comma 727,Legge 30 dicembre 2024, n. 207 (Bilancio di previsione dello Stato per l'anno finanziario 2025). | H27: 1.23 | I27: oltre 50000.00 euro | J27: =+CONCATENATE(B27,"-",I27) -> REGIONE FRIULI VENEZIA GIULIA-oltre 50000.00 euro
A28: 2025 | B28: REGIONE LOMBARDIA | C28: 1987 | D28: 45764 | F28: Art. 72, comma 1, legge regionale 14 luglio 2003, n. 10. | H28: 1.23 | I28: fino a 15000.00 euro | J28: =+CONCATENATE(B28,"-",I28) -> REGIONE LOMBARDIA-fino a 15000.00 euro
A29: 2025 | B29: REGIONE LOMBARDIA | C29: 1987 | D29: 45764 | F29: Art. 72, comma 1, legge regionale 14 luglio 2003, n. 10. | H29: 1.58 | I29: oltre 15000.00 e fino a 28000.00 euro | J29: =+CONCATENATE(B29,"-",I29) -> REGIONE LOMBARDIA-oltre 15000.00 e fino a 28000.00 euro
A30: 2025 | B30: REGIONE LOMBARDIA | C30: 1987 | D30: 45764 | F30: Art. 72, comma 1, legge regionale 14 luglio 2003, n. 10. | H30: 1.72 | I30: oltre 28000.00 e fino a 50000.00 euro | J30: =+CONCATENATE(B30,"-",I30) -> REGIONE LOMBARDIA-oltre 28000.00 e fino a 50000.00 euro
A31: 2025 | B31: REGIONE LOMBARDIA | C31: 1987 | D31: 45764 | F31: Art. 72, comma 1, legge regionale 14 luglio 2003, n. 10. | H31: 1.73 | I31: oltre 50000.00 euro | J31: =+CONCATENATE(B31,"-",I31) -> REGIONE LOMBARDIA-oltre 50000.00 euro
A32: 2025 | B32: REGIONE LIGURIA | C32: 2007 | D32: 45770 | F32: Legge Regionale 9 ottobre 2024 n. 17 articolo 2 bis come modificata dalla Legge regionale 31 marzo 2025 n. 3. Legge Regionale 17 marzo 2022 n. 3 articolo 1. Decreto Legislativo 6 maggio 2011 n. 68 articolo 6. | H32: 1.23 | I32: fino a 28000.00 euro | J32: =+CONCATENATE(B32,"-",I32) -> REGIONE LIGURIA-fino a 28000.00 euro
A33: 2025 | B33: REGIONE LIGURIA | C33: 2007 | D33: 45770 | F33: Legge Regionale 9 ottobre 2024 n. 17 articolo 2 bis come modificata dalla Legge regionale 31 marzo 2025 n. 3. Legge Regionale 17 marzo 2022 n. 3 articolo 1. Decreto Legislativo 6 maggio 2011 n. 68 articolo 6. | H33: 3.18 | I33: oltre 28000.00 e fino a 50000.00 euro | J33: =+CONCATENATE(B33,"-",I33) -> REGIONE LIGURIA-oltre 28000.00 e fino a 50000.00 euro
A34: 2025 | B34: REGIONE LIGURIA | C34: 2007 | D34: 45770 | F34: Legge Regionale 9 ottobre 2024 n. 17 articolo 2 bis come modificata dalla Legge regionale 31 marzo 2025 n. 3. Legge Regionale 17 marzo 2022 n. 3 articolo 1. Decreto Legislativo 6 maggio 2011 n. 68 articolo 6. | H34: 3.23 | I34: oltre 50000.00 euro | J34: =+CONCATENATE(B34,"-",I34) -> REGIONE LIGURIA-oltre 50000.00 euro
A35: 2025 | B35: REGIONE MARCHE | C35: 2008 | D35: 45779 | E35: Si applica l'aliquota dell'1,23% per i contribuenti con un reddito imponibile, ai fini dell'addizionale regionale all'IRPEF, fino a 50.000,00 euro con uno o piu' figli portatori di handicap di cui all'articolo 3 della legge 5 febbraio 1992, n. 104, compresi i figli naturali riconosciuti, i figli adottivi o affidati, comunque a carico ai sensi del comma 2 dell'articolo 12 del decreto del Presidente della Repubblica 22 dicembre 1986, n. 917 (sono considerati a carico i figli con un reddito complessivo non superiore a 2.840,51 euro, al lordo degli oneri deducibili, per i figli di eta' non superiore a ventiquattro anni tale limite di reddito complessivo e' elevato a 4.000 euro). Qualora i figli siano a carico di piu' soggetti, l'aliquota dell'1,23% si applica solo nel caso in cui la somma dei redditi imponibili ai fini dell'addizionale regionale all'IRPEF di tali soggetti non sia superiore a 50.000,00 euro. | F35: Articolo 1 della legge regionale 23 marzo 2022, n. 5 - Articolo 50 del decreto legislativo 15 dicembre 1997, n. 446 - Articolo 6 del decreto legislativo 6 maggio 2011, n. 68. Articolo 1, commi 728 e 729, della legge 30 dicembre 2024, n.207. | H35: 1.23 | I35: fino a 15000.00 euro | J35: =+CONCATENATE(B35,"-",I35) -> REGIONE MARCHE-fino a 15000.00 euro
A36: 2025 | B36: REGIONE MARCHE | C36: 2008 | D36: 45779 | E36: Si applica l'aliquota dell'1,23% per i contribuenti con un reddito imponibile, ai fini dell'addizionale regionale all'IRPEF, fino a 50.000,00 euro con uno o piu' figli portatori di handicap di cui all'articolo 3 della legge 5 febbraio 1992, n. 104, compresi i figli naturali riconosciuti, i figli adottivi o affidati, comunque a carico ai sensi del comma 2 dell'articolo 12 del decreto del Presidente della Repubblica 22 dicembre 1986, n. 917 (sono considerati a carico i figli con un reddito complessivo non superiore a 2.840,51 euro, al lordo degli oneri deducibili, per i figli di eta' non superiore a ventiquattro anni tale limite di reddito complessivo e' elevato a 4.000 euro). Qualora i figli siano a carico di piu' soggetti, l'aliquota dell'1,23% si applica solo nel caso in cui la somma dei redditi imponibili ai fini dell'addizionale regionale all'IRPEF di tali soggetti non sia superiore a 50.000,00 euro. | F36: Articolo 1 della legge regionale 23 marzo 2022, n. 5 - Articolo 50 del decreto legislativo 15 dicembre 1997, n. 446 - Articolo 6 del decreto legislativo 6 maggio 2011, n. 68. Articolo 1, commi 728 e 729, della legge 30 dicembre 2024, n.207. | H36: 1.53 | I36: oltre 15000.00 e fino a 28000.00 euro | J36: =+CONCATENATE(B36,"-",I36) -> REGIONE MARCHE-oltre 15000.00 e fino a 28000.00 euro
A37: 2025 | B37: REGIONE MARCHE | C37: 2008 | D37: 45779 | E37: Si applica l'aliquota dell'1,23% per i contribuenti con un reddito imponibile, ai fini dell'addizionale regionale all'IRPEF, fino a 50.000,00 euro con uno o piu' figli portatori di handicap di cui all'articolo 3 della legge 5 febbraio 1992, n. 104, compresi i figli naturali riconosciuti, i figli adottivi o affidati, comunque a carico ai sensi del comma 2 dell'articolo 12 del decreto del Presidente della Repubblica 22 dicembre 1986, n. 917 (sono considerati a carico i figli con un reddito complessivo non superiore a 2.840,51 euro, al lordo degli oneri deducibili, per i figli di eta' non superiore a ventiquattro anni tale limite di reddito complessivo e' elevato a 4.000 euro). Qualora i figli siano a carico di piu' soggetti, l'aliquota dell'1,23% si applica solo nel caso in cui la somma dei redditi imponibili ai fini dell'addizionale regionale all'IRPEF di tali soggetti non sia superiore a 50.000,00 euro. | F37: Articolo 1 della legge regionale 23 marzo 2022, n. 5 - Articolo 50 del decreto legislativo 15 dicembre 1997, n. 446 - Articolo 6 del decreto legislativo 6 maggio 2011, n. 68. Articolo 1, commi 728 e 729, della legge 30 dicembre 2024, n.207. | H37: 1.70 | I37: oltre 28000.00 e fino a 50000.00 euro | J37: =+CONCATENATE(B37,"-",I37) -> REGIONE MARCHE-oltre 28000.00 e fino a 50000.00 euro
A38: 2025 | B38: REGIONE MARCHE | C38: 2008 | D38: 45779 | E38: Si applica l'aliquota dell'1,23% per i contribuenti con un reddito imponibile, ai fini dell'addizionale regionale all'IRPEF, fino a 50.000,00 euro con uno o piu' figli portatori di handicap di cui all'articolo 3 della legge 5 febbraio 1992, n. 104, compresi i figli naturali riconosciuti, i figli adottivi o affidati, comunque a carico ai sensi del comma 2 dell'articolo 12 del decreto del Presidente della Repubblica 22 dicembre 1986, n. 917 (sono considerati a carico i figli con un reddito complessivo non superiore a 2.840,51 euro, al lordo degli oneri deducibili, per i figli di eta' non superiore a ventiquattro anni tale limite di reddito complessivo e' elevato a 4.000 euro). Qualora i figli siano a carico di piu' soggetti, l'aliquota dell'1,23% si applica solo nel caso in cui la somma dei redditi imponibili ai fini dell'addizionale regionale all'IRPEF di tali soggetti non sia superiore a 50.000,00 euro. | F38: Articolo 1 della legge regionale 23 marzo 2022, n. 5 - Articolo 50 del decreto legislativo 15 dicembre 1997, n. 446 - Articolo 6 del decreto legislativo 6 maggio 2011, n. 68. Articolo 1, commi 728 e 729, della legge 30 dicembre 2024, n.207. | H38: 1.73 | I38: oltre 50000.00 euro | J38: =+CONCATENATE(B38,"-",I38) -> REGIONE MARCHE-oltre 50000.00 euro
A39: 2025 | B39: REGIONE UMBRIA | C39: 2027 | D39: 45779 | E39: Le maggiorazioni dell'aliquota dell'addizionale regionale all'IRPEF previste all'art. 1, comma 1, lettere a) e b) della legge regionale 11 aprile 2025, n. 2, pari allo 0,50% - per i redditi fino a 15.000 euro - e del 1,79% - per i redditi oltre 15.000 euro e fino a 28.000 euro - non trovano applicazione nei confronti dei soggetti con un reddito imponibile complessivo, ai fini dell'addizionale regionale all'IRPEF, fino a 28.000,00 euro. E' disposta una detrazione dall'addizionale regionale all'IRPEF pari a 150,00 euro, in favore dei soggetti con un reddito imponibile complessivo, ai fini dell'addizionale regionale all'IRPEF, compreso tra 28.001,00 e 50.000,00 euro. | F39: Art. 1 - Legge regionale 11 aprile 2025, n. 2 | G39: Le disposizioni agevolative non generano il riconoscimento di alcun credito d'imposta | H39: 1.73 | I39: fino a 15000.00 euro | J39: =+CONCATENATE(B39,"-",I39) -> REGIONE UMBRIA-fino a 15000.00 euro
A40: 2025 | B40: REGIONE UMBRIA | C40: 2027 | D40: 45779 | E40: Le maggiorazioni dell'aliquota dell'addizionale regionale all'IRPEF previste all'art. 1, comma 1, lettere a) e b) della legge regionale 11 aprile 2025, n. 2, pari allo 0,50% - per i redditi fino a 15.000 euro - e del 1,79% - per i redditi oltre 15.000 euro e fino a 28.000 euro - non trovano applicazione nei confronti dei soggetti con un reddito imponibile complessivo, ai fini dell'addizionale regionale all'IRPEF, fino a 28.000,00 euro. E' disposta una detrazione dall'addizionale regionale all'IRPEF pari a 150,00 euro, in favore dei soggetti con un reddito imponibile complessivo, ai fini dell'addizionale regionale all'IRPEF, compreso tra 28.001,00 e 50.000,00 euro. | F40: Art. 1 - Legge regionale 11 aprile 2025, n. 2 | G40: Le disposizioni agevolative non generano il riconoscimento di alcun credito d'imposta | H40: 3.02 | I40: oltre 15000.00 e fino a 28000.00 euro | J40: =+CONCATENATE(B40,"-",I40) -> REGIONE UMBRIA-oltre 15000.00 e fino a 28000.00 euro
...

Sheet 4-Add.Comunali
A1: CODICE_CATASTALE | B1: COMUNE | C1: PR | D1: NUMERO_DELIBERA | E1: DATA_DELIBERA | F1: DATA_PUBBLICAZIONE | G1: NOTE | H1: MULTIALIQ | I1: ALIQUOTA | J1: FASCIA | K1: ALIQUOTA_2 | L1: FASCIA_2 | M1: ALIQUOTA_3 | N1: FASCIA_3 | O1: ALIQUOTA_4 | P1: FASCIA_4 | Q1: ALIQUOTA_5 | R1: FASCIA_5 | S1: ALIQUOTA_6 | T1: FASCIA_6 | U1: ALIQUOTA_7 | V1: FASCIA_7 | W1: ALIQUOTA_8 | X1: FASCIA_8 | Y1: ALIQUOTA_9 | Z1: FASCIA_9 | AA1: ALIQUOTA_10 | AB1: FASCIA_10 | AC1: ALIQUOTA_11 | AD1: FASCIA_11 | AE1: ALIQUOTA_12 | AF1: FASCIA_12 | AG1: FLAG_NUOVA | AH1: IMPORTO_ESENTE
A2: A001 | B2: ABANO TERME | C2: PD | D2: 12 | E2: 43157 | F2: 46011 | G2: CONFERMA | H2: SI | I2: 0 | J2: Esenzione per redditi imponibili fino a euro 12.000,00 | K2: 0.8 | L2: Aliquota unica | AG2: 2 | AH2: 12000
A3: A004 | B3: ABBADIA CERRETO | C3: LO | D3: 29 | E3: 45259 | F3: 46011 | G3: CONFERMA | H3: SI | I3: 0 | J3: Esenzione per redditi imponibili fino a euro 10.000,00 | K3: 0.7 | L3: Aliquota unica | AG3: 2 | AH3: 10000
A4: A005 | B4: ABBADIA LARIANA | C4: LC | D4: 7 | E4: 45713 | F4: 45882 | G4: MODIFICA | H4: SI | I4: 0 | J4: Esenzione per redditi imponibili fino a euro 15.000,00 | K4: 0.76 | L4: Applicabile a scaglione di reddito fino a euro 28.000,00 | M4: 0.77 | N4: Applicabile a scaglione di reddito da euro 28.000,01 fino a euro 50.000,00 | O4: 0.8 | P4: Applicabile a scaglione di reddito oltre euro 50.000,00 | AG4: 4 | AH4: 15000
A5: A006 | B5: ABBADIA SAN SALVATORE | C5: SI | D5: 78 | E5: 45656 | F5: 45813 | G5: CONFERMA | H5: SI | I5: 0 | J5: Esenzione per redditi imponibili fino a euro 12.000,00 | K5: 0.6 | L5: Aliquota unica | AG5: 2 | AH5: 12000
A6: A007 | B6: ABBASANTA | C6: OR | D6: 29 | E6: 45608 | F6: 45678 | G6: CONFERMA | H6: SI | I6: 0 | J6: Esenzione per redditi imponibili fino a euro 15.000,00 | K6: 0.25 | L6: Aliquota unica | AG6: 2 | AH6: 15000
A7: A008 | B7: ABBATEGGIO | C7: PE | D7: 9 | E7: 45715 | F7: 45944 | G7: CONFERMA | H7: NO | I7: 0.5 | J7: Aliquota unica | AG7: 1 | AH7: 0
A8: A010 | B8: ABBIATEGRASSO | C8: MI | D8: 41 | E8: 44013 | F8: 46011 | G8: CONFERMA | H8: SI | I8: 0 | J8: Esenzione per redditi imponibili fino a euro 13.000,00 | K8: 0.8 | L8: Aliquota unica | AG8: 2 | AH8: 13000
A9: M376 | B9: ABETONE CUTIGLIANO | C9: PT | D9: 60 | E9: 45653 | F9: 45742 | G9: CONFERMA | H9: NO | I9: 0.8 | J9: Aliquota unica | AG9: 1 | AH9: 0
A10: A013 | B10: ABRIOLA | C10: PZ | D10: 16 | E10: 42209 | F10: 46011 | G10: NON APPLICA | H10: NO | I10: 0 | J10: Aliquota unica | AG10: 1 | AH10: 0
A11: A014 | B11: ACATE | C11: RG | D11: 6 | E11: 45698 | F11: 45714 | G11: CONFERMA | H11: NO | I11: 0.8 | J11: Aliquota unica | AG11: 1 | AH11: 0
A12: A015 | B12: ACCADIA | C12: FG | D12: 30 | E12: 45623 | F12: 45936 | G12: CONFERMA | H12: NO | I12: 0.8 | J12: Aliquota unica | AG12: 1 | AH12: 0
A13: A016 | B13: ACCEGLIO | C13: CN | D13: 8 | E13: 39172 | F13: 46011 | G13: NON APPLICA | H13: NO | I13: 0 | J13: Aliquota unica | AG13: 1 | AH13: 0
A14: A017 | B14: ACCETTURA | C14: MT | D14: 17 | E14: 44711 | F14: 46011 | G14: CONFERMA | H14: NO | I14: 0.7 | J14: Aliquota unica | AG14: 1 | AH14: 0
A15: A018 | B15: ACCIANO | C15: AQ | D15: 76 | E15: 45631 | F15: 45727 | G15: CONFERMA | H15: NO | I15: 0.2 | J15: Aliquota unica | AG15: 1 | AH15: 0
A16: A019 | B16: ACCUMOLI | C16: RI | D16: 8 | E16: 45757 | F16: 45944 | G16: CONFERMA | H16: NO | I16: 0.5 | J16: Aliquota unica | AG16: 1 | AH16: 0
A17: A020 | B17: ACERENZA | C17: PZ | D17: 52 | E17: 45289 | F17: 46011 | G17: CONFERMA | H17: NO | I17: 0.8 | J17: Aliquota unica | AG17: 1 | AH17: 0
A18: A023 | B18: ACERNO | C18: SA | D18: 4 | E18: 45736 | F18: 45840 | G18: CONFERMA | H18: SI | I18: 0 | J18: Esenzione per redditi imponibili fino a euro 7.500,00 | K18: 0.8 | L18: Aliquota unica | AG18: 2 | AH18: 7500
A19: A024 | B19: ACERRA | C19: NA | D19: 92 | E19: 45628 | F19: 46003 | G19: CONFERMA | H19: SI | I19: 0.8 | J19: Aliquota unica | K19: 0 | L19: Esenzione per i pensionati fino a un reddito da pensione di 8.500,00 euro | M19: 0 | N19: Esenzione per i redditi assimilati al lavoro dipendente 5.500,00 euro | O19: 0 | P19: Esenzione per i redditi di lavoratori dipendenti 8.174,00 euro | AG19: 5 | AH19: 0
A20: A025 | B20: ACI BONACCORSI | C20: CT | D20: 32 | E20: 45624 | F20: 45936 | G20: MODIFICA | H20: SI | I20: 0 | J20: Esenzione per redditi imponibili fino a euro 7.500,00 | K20: 0.75 | L20: Aliquota unica | AG20: 2 | AH20: 7500
A21: A026 | B21: ACI CASTELLO | C21: CT | D21: 19 | E21: 42809 | F21: 46011 | G21: CONFERMA | H21: NO | I21: 0.8 | J21: Aliquota unica | AG21: 1 | AH21: 0
A22: A027 | B22: ACI CATENA | C22: CT | D22: 67 | E22: 45239 | F22: 46011 | G22: CONFERMA | H22: NO | I22: 0.8 | J22: Aliquota unica | AG22: 1 | AH22: 0
A23: A029 | B23: ACI SANT'ANTONIO | C23: CT | D23: 6 | E23: 45029 | F23: 46011 | G23: CONFERMA | H23: NO | I23: 0.8 | J23: Aliquota unica | AG23: 1 | AH23: 0
A24: A028 | B24: ACIREALE | C24: CT | D24: 8 | E24: 45674 | F24: 45687 | G24: CONFERMA | H24: NO | I24: 0.8 | J24: Aliquota unica | AG24: 1 | AH24: 0
A25: A032 | B25: ACQUAFONDATA | C25: FR | D25: 27 | E25: 45289 | F25: 46011 | G25: CONFERMA | H25: SI | I25: 0 | J25: Esenzione per redditi imponibili fino a euro 9.999,99 | K25: 0.5 | L25: Aliquota unica | AG25: 2 | AH25: 9999.99
A26: A033 | B26: ACQUAFORMOSA | C26: CS | D26: 18 | E26: 44130 | F26: 46011 | G26: CONFERMA | H26: NO | I26: 0.8 | J26: Aliquota unica | AG26: 1 | AH26: 0
A27: A034 | B27: ACQUAFREDDA | C27: BS | D27: 37 | E27: 45654 | F27: 45931 | G27: DELIBERA ADOTTATA EX ART. 1, COMMA 751, L. 207/2024 | H27: SI | I27: 0.38 | J27: Applicabile a scaglione di reddito fino a euro 15.000,00 | K27: 0.4 | L27: Applicabile a scaglione di reddito da euro 15.000,01 fino ad euro 28.000,00 | M27: 0.45 | N27: Applicabile a scaglione di reddito da euro 28.000,01 fino a euro 50.000,00 | O27: 0.47 | P27: Applicabile a scaglione di reddito oltre euro 50.000,00 | AG27: 0 | AH27: 0
A28: A035 | B28: ACQUALAGNA | C28: PU | D28: 62 | E28: 45643 | F28: 45758 | G28: CONFERMA | H28: NO | I28: 0.8 | J28: Aliquota unica | AG28: 1 | AH28: 0
A29: A039 | B29: ACQUANEGRA CREMONESE | C29: CR | D29: 38 | E29: 45645 | F29: 45685 | G29: CONFERMA | H29: NO | I29: 0.8 | J29: Aliquota unica | AG29: 1 | AH29: 0
A30: A038 | B30: ACQUANEGRA SUL CHIESE | C30: MN | D30: 35 | E30: 45645 | F30: 45947 | G30: DELIBERA ADOTTATA EX ART. 1, COMMA 751, L. 207/2024 | H30: SI | I30: 0.55 | J30: Applicabile a scaglione di reddito fino a euro 15.000,00 | K30: 0.68 | L30: Applicabile a scaglione di reddito da euro 15.000,01 fino a euro 28.000,00 | M30: 0.72 | N30: Applicabile a scaglione di reddito da euro 28.000,01 fino a euro 50.000,00 | O30: 0.8 | P30: Applicabile a scaglione di reddito oltre euro 50.000,00 | Q30: 0 | R30: Esenzione per redditi imponibili fino a euro 10.000,00 | AG30: 0 | AH30: 0
A31: A040 | B31: ACQUAPENDENTE | C31: VT | D31: 13 | E31: 44314 | F31: 46011 | G31: CONFERMA | H31: NO | I31: 0.7 | J31: Aliquota unica | AG31: 1 | AH31: 0
A32: A041 | B32: ACQUAPPESA | C32: CS | D32: 3 | E32: 45722 | F32: 45944 | G32: CONFERMA | H32: NO | I32: 0.8 | J32: Aliquota unica | AG32: 1 | AH32: 0
A33: A043 | B33: ACQUARO | C33: VV | D33: 6 | E33: 45068 | F33: 46011 | G33: CONFERMA | H33: NO | I33: 0.8 | J33: Aliquota unica | AG33: 1 | AH33: 0
A34: A044 | B34: ACQUASANTA TERME | C34: AP | D34: 60 | E34: 45653 | F34: 45716 | G34: CONFERMA | H34: NO | I34: 0.8 | J34: Aliquota unica | AG34: 1 | AH34: 0
A35: A045 | B35: ACQUASPARTA | C35: TR | D35: 12 | E35: 39120 | F35: 46011 | G35: CONFERMA | H35: NO | I35: 0.8 | J35: Aliquota unica | AG35: 1 | AH35: 0
A36: A050 | B36: ACQUAVIVA COLLECROCE | C36: CB | D36: 9 | E36: 45713 | F36: 45937 | G36: MODIFICA | H36: NO | I36: 0.6 | J36: Aliquota unica | AG36: 1 | AH36: 0
A37: A048 | B37: ACQUAVIVA DELLE FONTI | C37: BA | D37: 90 | E37: 45279 | F37: 46011 | G37: DELIBERA ADOTTATA EX ART. 1, COMMA 751, L. 207/2024 | H37: SI | I37: 0.4 | J37: Applicabile a scaglione di reddito fino a euro 15.000,00 | K37: 0.6 | L37: Applicabile a scaglione di reddito da euro 15.000,01 fino a euro 28.000,00 | M37: 0.7 | N37: Applicabile a scaglione di reddito da euro 28.000,01 fino a euro 50.000,00 | O37: 0.8 | P37: Applicabile a scaglione di reddito oltre euro 50.000,00 | Q37: 0 | R37: Esenzione per redditi imponibili fino a euro 9.000,00 | AG37: 0 | AH37: 0
A38: A051 | B38: ACQUAVIVA D'ISERNIA | C38: IS | H38: NO | I38: 0* | AH38: 0
A39: A047 | B39: ACQUAVIVA PICENA | C39: AP | D39: 34 | E39: 45625 | F39: 45665 | G39: CONFERMA | H39: NO | I39: 0.8 | J39: Aliquota unica | AG39: 1 | AH39: 0
A40: A049 | B40: ACQUAVIVA PLATANI | C40: CL | H40: NO | I40: 0* | AH40: 0
...

Sheet 5-IRAP
A1: REGIONE | B1: CODICE | C1: REGIONE | D1: % IRAP
A2: REGIONE ABRUZZO | B2: 1 | C2: ABRUZZO | D2: 0.0482
A3: REGIONE BASILICATA | B3: 2 | C3: BASILICATA | D3: 0.039
A4: PROVINCIA AUTONOMA DI BOLZANO | B4: 3 | C4: BOLZANO | D4: 0.039
A5: REGIONE CALABRIA | B5: 4 | C5: CALABRIA | D5: 0.0497
A6: REGIONE CAMPANIA | B6: 5 | C6: CAMPANIA | D6: 0.0497
A7: REGIONE EMILIA-ROMAGNA | B7: 6 | C7: EMILIA ROMAGNA | D7: 0.039
A8: REGIONE FRIULI VENEZIA GIULIA | B8: 7 | C8: FRIULI VENEZIA GIULIA | D8: 0.039
A9: REGIONE LAZIO | B9: 8 | C9: LAZIO | D9: 0.0482
A10: REGIONE LIGURIA | B10: 9 | C10: LIGURIA | D10: 0.039
A11: REGIONE LOMBARDIA | B11: 10 | C11: LOMBARDIA | D11: 0.039
A12: REGIONE MARCHE | B12: 11 | C12: MARCHE | D12: 0.0473
A13: REGIONE MOLISE | B13: 12 | C13: MOLISE | D13: 0.0497
... A22: REGIONE VENETO | B22: 21 | C22: VENETO | D22: 0.039

Sheet 6-VARIABILI
A1: Anno | B1: Imponibile
A2: 2023 | B2: 0.5 | D2: Si
A3: 2024 | B3: 0.5 | D3: No
A4: 2025 | B4: 0.5 | D4: Si
A5: =+A4+1 -> 2026 | B5: 0.5 | D5: Si
A6: =+A5+1 -> 2027 | B6: 0.5 | D6: Si
A7: =+A6+1 -> 2028 | B7: 1
A8: =+A7+1 -> 2029 | B8: 1
A9: =+A8+1 -> 2030 | B9: 1
A10: =+A9+1 -> 2031 | B10: 1
A11: =+A10+1 -> 2032 | B11: 1
A12: =+A11+1 -> 2033 | B12: 1
A16: Mese
A17: Gennaio
A18: Febbraio
A19: Marzo
A20: Aprile
A21: Maggio
A22: Giugno
A23: Luglio
A24: Agosto
A25: Settembre
A26: Ottobre
A27: Novembre
... A31: Annuale
